BEGIN:VCALENDAR
VERSION:2.0
PRODID:-//Carolina Coast Athletics - ECPv6.15.17.1//NONSGML v1.0//EN
CALSCALE:GREGORIAN
METHOD:PUBLISH
X-ORIGINAL-URL:https://carolinacoastathletics.com
X-WR-CALDESC:Events for Carolina Coast Athletics
REFRESH-INTERVAL;VALUE=DURATION:PT1H
X-Robots-Tag:noindex
X-PUBLISHED-TTL:PT1H
BEGIN:VTIMEZONE
TZID:UTC
BEGIN:STANDARD
TZOFFSETFROM:+0000
TZOFFSETTO:+0000
TZNAME:UTC
DTSTART:20250101T000000
END:STANDARD
END:VTIMEZONE
BEGIN:VEVENT
DTSTART;TZID=UTC:20260729T090000
DTEND;TZID=UTC:20260729T110000
DTSTAMP:20260425T105009
CREATED:20260310T020531Z
LAST-MODIFIED:20260310T020537Z
UID:10000091-1785315600-1785322800@carolinacoastathletics.com
SUMMARY:🧙‍♀️ Wicked Dance Camp
DESCRIPTION:Something magical is happening at CCA! Inspired by the world of Wicked\, this dance camp invites campers to explore movement\, music\, and imagination in a fun and empowering environment. \nEach day includes themed crafts\, tasty snacks\, and exciting dance instruction where campers will learn fun choreography inspired by Broadway-style performances. Along the way\, they’ll build confidence\, rhythm\, coordination\, and stage presence. \nPerfect for kids who love to dance\, perform\, and embrace their inner star—because sometimes the most magical moments happen when you dare to be different. ✨ \n  \n 
URL:https://carolinacoastathletics.com/event/%f0%9f%a7%99%e2%99%80%ef%b8%8f-wicked-dance-camp/
CATEGORIES:Summer Camps
ATTACH;FMTTYPE=image/png:https://carolinacoastathletics.com/wp-content/uploads/2026/03/Wicked-Dance-Camp-3.png
END:VEVENT
END:VCALENDAR