BEGIN:VCALENDAR
VERSION:2.0
PRODID:-//Carolina Coast Athletics - ECPv6.15.17.1//NONSGML v1.0//EN
CALSCALE:GREGORIAN
METHOD:PUBLISH
X-ORIGINAL-URL:https://carolinacoastathletics.com
X-WR-CALDESC:Events for Carolina Coast Athletics
REFRESH-INTERVAL;VALUE=DURATION:PT1H
X-Robots-Tag:noindex
X-PUBLISHED-TTL:PT1H
BEGIN:VTIMEZONE
TZID:UTC
BEGIN:STANDARD
TZOFFSETFROM:+0000
TZOFFSETTO:+0000
TZNAME:UTC
DTSTART:20250101T000000
END:STANDARD
END:VTIMEZONE
BEGIN:VEVENT
DTSTART;TZID=UTC:20260608T090000
DTEND;TZID=UTC:20260608T110000
DTSTAMP:20260421T152047
CREATED:20260212T201524Z
LAST-MODIFIED:20260304T154722Z
UID:10000070-1780909200-1780916400@carolinacoastathletics.com
SUMMARY:Frozen Cheer Camp
DESCRIPTION:Let it go… and let’s CHEER! \nThis magical camp combines themed crafts\, frosty snacks\, and cheer instruction focused on jumps\, beginner tumbling\, and performance skills. Campers will learn a short routine and work on strength\, flexibility\, and confidence. Campers will perform their routine at the end of camp for their parents to show what they learned! \nDesigned for kids who love to dance\, cheer\, and perform with flair. \n\n                \n                \n                \n            \n 
URL:https://carolinacoastathletics.com/event/frozen-cheer-camp/
CATEGORIES:Summer Camps
ATTACH;FMTTYPE=image/png:https://carolinacoastathletics.com/wp-content/uploads/2026/02/Frozen-Cheer-Camp-1.png
END:VEVENT
END:VCALENDAR