BEGIN:VCALENDAR
VERSION:2.0
PRODID:-//Carolina Coast Athletics - ECPv6.15.17.1//NONSGML v1.0//EN
CALSCALE:GREGORIAN
METHOD:PUBLISH
X-WR-CALNAME:Carolina Coast Athletics
X-ORIGINAL-URL:https://carolinacoastathletics.com
X-WR-CALDESC:Events for Carolina Coast Athletics
REFRESH-INTERVAL;VALUE=DURATION:PT1H
X-Robots-Tag:noindex
X-PUBLISHED-TTL:PT1H
BEGIN:VTIMEZONE
TZID:UTC
BEGIN:STANDARD
TZOFFSETFROM:+0000
TZOFFSETTO:+0000
TZNAME:UTC
DTSTART:20250101T000000
END:STANDARD
END:VTIMEZONE
BEGIN:VEVENT
DTSTART;TZID=UTC:20260727T090000
DTEND;TZID=UTC:20260727T110000
DTSTAMP:20260423T145238
CREATED:20260310T013120Z
LAST-MODIFIED:20260310T013126Z
UID:10000090-1785142800-1785150000@carolinacoastathletics.com
SUMMARY:🦄 Unicorn Sparkle Dance Camp
DESCRIPTION:Get ready for a magical adventure filled with sparkle\, imagination\, and fun! At Unicorn Sparkle Camp\, campers will step into a whimsical world where creativity and movement come together. \nEach day includes themed crafts\, tasty snacks\, and exciting specialty instruction designed to keep kids active and engaged. Campers will enjoy cheer and movement activities\, learning a fun dance\, and games while building confidence\, coordination\, and new friendships. \nPerfect for kids who love unicorns\, glitter\, and a little bit of magic! ✨ \n  \n 
URL:https://carolinacoastathletics.com/event/%f0%9f%a6%84-unicorn-sparkle-dance-camp/
CATEGORIES:Summer Camps
ATTACH;FMTTYPE=image/png:https://carolinacoastathletics.com/wp-content/uploads/2026/03/Unicorn-Sparkle-Camp-2.png
END:VEVENT
END:VCALENDAR