BEGIN:VCALENDAR
VERSION:2.0
PRODID:-//Carolina Coast Athletics - ECPv6.15.17.1//NONSGML v1.0//EN
CALSCALE:GREGORIAN
METHOD:PUBLISH
X-ORIGINAL-URL:https://carolinacoastathletics.com
X-WR-CALDESC:Events for Carolina Coast Athletics
REFRESH-INTERVAL;VALUE=DURATION:PT1H
X-Robots-Tag:noindex
X-PUBLISHED-TTL:PT1H
BEGIN:VTIMEZONE
TZID:UTC
BEGIN:STANDARD
TZOFFSETFROM:+0000
TZOFFSETTO:+0000
TZNAME:UTC
DTSTART:20250101T000000
END:STANDARD
END:VTIMEZONE
BEGIN:VEVENT
DTSTART;TZID=UTC:20260629T090000
DTEND;TZID=UTC:20260629T110000
DTSTAMP:20260421T084522
CREATED:20260310T002306Z
LAST-MODIFIED:20260310T002316Z
UID:10000085-1782723600-1782730800@carolinacoastathletics.com
SUMMARY:🍪 Girl Scout Camp
DESCRIPTION:This leadership-focused camp blends creativity\, confidence\, and teamwork. \nCampers will participate in badge-inspired crafts\, enjoy snacks\, and take part in structured specialty instruction focused on strength\, coordination\, and goal setting. Activities promote teamwork\, encouragement\, and personal growth. Includes a cookie snack break and each girl will leave with a sash that has badges that they earned for activities completed in camp! \nGreat for girls who love building skills while building friendships. \n  \n 
URL:https://carolinacoastathletics.com/event/%f0%9f%8d%aa-girl-scout-camp/
CATEGORIES:Summer Camps
ATTACH;FMTTYPE=image/png:https://carolinacoastathletics.com/wp-content/uploads/2026/03/Copy-of-Girls-Scout-Camp-1.png
END:VEVENT
END:VCALENDAR