BEGIN:VCALENDAR
VERSION:2.0
PRODID:-//Carolina Coast Athletics - ECPv6.15.17.1//NONSGML v1.0//EN
CALSCALE:GREGORIAN
METHOD:PUBLISH
X-ORIGINAL-URL:https://carolinacoastathletics.com
X-WR-CALDESC:Events for Carolina Coast Athletics
REFRESH-INTERVAL;VALUE=DURATION:PT1H
X-Robots-Tag:noindex
X-PUBLISHED-TTL:PT1H
BEGIN:VTIMEZONE
TZID:UTC
BEGIN:STANDARD
TZOFFSETFROM:+0000
TZOFFSETTO:+0000
TZNAME:UTC
DTSTART:20250101T000000
END:STANDARD
END:VTIMEZONE
BEGIN:VEVENT
DTSTART;TZID=UTC:20260618T090000
DTEND;TZID=UTC:20260618T110000
DTSTAMP:20260419T141112
CREATED:20260217T043218Z
LAST-MODIFIED:20260304T154925Z
UID:10000074-1781773200-1781780400@carolinacoastathletics.com
SUMMARY:Pink PJ Dance Party
DESCRIPTION:Roll out of bed and straight into the ultimate dance party! \nCampers will enjoy cozy-themed crafts\, sweet treats\, and learn fun\, upbeat dance routine in a high-energy\, positive environment. This camp focuses on rhythm\, performance skills\, and building confidence on the floor. \nPajamas encouraged. Smiles guaranteed. \n  \n\n                \n                \n                \n            \n 
URL:https://carolinacoastathletics.com/event/pink-pj-dance-party/
CATEGORIES:Summer Camps
ATTACH;FMTTYPE=image/png:https://carolinacoastathletics.com/wp-content/uploads/2026/02/Copy-of-Pink-Pajama-Dance-Party-1.png
END:VEVENT
END:VCALENDAR